BEGIN:VCALENDAR
VERSION:2.0
PRODID:-//Drupal iCal API//EN
X-WR-TIMEZONE:America/New_York
BEGIN:VTIMEZONE
TZID:America/New_York
X-LIC-LOCATION:America/New_York
BEGIN:DAYLIGHT
TZNAME:EDT
TZOFFSETFROM:-0500
TZOFFSETTO:-0400
DTSTART:20240310T070000
END:DAYLIGHT
BEGIN:STANDARD
TZNAME:EST
TZOFFSETFROM:-0400
TZOFFSETTO:-0500
DTSTART:20241103T060000
END:STANDARD
END:VTIMEZONE
BEGIN:VEVENT
UID:1bae5ee5-c666-4deb-ace8-46b811a79b87
DTSTART;TZID=America/New_York:20250225T183000
SEQUENCE:0
TRANSP:TRANSPARENT
DTEND;TZID=America/New_York:20250225T183000
SUMMARY:Workshop Meeting
CLASS:PUBLIC
DTSTAMP:20260421T152448Z
END:VEVENT
END:VCALENDAR