BEGIN:VCALENDAR
VERSION:2.0
PRODID:-//Drupal iCal API//EN
X-WR-TIMEZONE:America/New_York
BEGIN:VTIMEZONE
TZID:America/New_York
X-LIC-LOCATION:America/New_York
BEGIN:DAYLIGHT
TZNAME:EDT
TZOFFSETFROM:-0500
TZOFFSETTO:-0400
DTSTART:20260308T070000
END:DAYLIGHT
BEGIN:STANDARD
TZNAME:EST
TZOFFSETFROM:-0400
TZOFFSETTO:-0500
DTSTART:20251102T060000
END:STANDARD
END:VTIMEZONE
BEGIN:VEVENT
UID:4c19cd43-5747-4058-bb40-99ca42cb4227
DTSTART;TZID=America/New_York:20260413T183000
SEQUENCE:0
TRANSP:TRANSPARENT
DTEND;TZID=America/New_York:20260413T183000
SUMMARY:Regular Town Council Meeting
CLASS:PUBLIC
DTSTAMP:20260421T075154Z
END:VEVENT
END:VCALENDAR